BEGIN:VCALENDAR
VERSION:2.0
PRODID:-//News @ HolmesCC - ECPv5.2.1.1//NONSGML v1.0//EN
CALSCALE:GREGORIAN
METHOD:PUBLISH
X-WR-CALNAME:News @ HolmesCC
X-ORIGINAL-URL:https://news.holmescc.edu
X-WR-CALDESC:Events for News @ HolmesCC
BEGIN:VTIMEZONE
TZID:America/Chicago
BEGIN:DAYLIGHT
TZOFFSETFROM:-0600
TZOFFSETTO:-0500
TZNAME:CDT
DTSTART:20220313T080000
END:DAYLIGHT
BEGIN:STANDARD
TZOFFSETFROM:-0500
TZOFFSETTO:-0600
TZNAME:CST
DTSTART:20221106T070000
END:STANDARD
END:VTIMEZONE
BEGIN:VEVENT
DTSTART;VALUE=DATE:20220119
DTEND;VALUE=DATE:20220120
DTSTAMP:20260421T072827
CREATED:20211020T231712Z
LAST-MODIFIED:20211020T231712Z
UID:6372-1642550400-1642550400@news.holmescc.edu
SUMMARY:Last Day to Register for Wednesay On Campus evening classes
DESCRIPTION:
URL:https://news.holmescc.edu/calendar/last-day-to-register-for-wednesay-on-campus-evening-classes/
END:VEVENT
END:VCALENDAR