BEGIN:VCALENDAR
VERSION:2.0
PRODID:-//News @ HolmesCC - ECPv5.2.1.1//NONSGML v1.0//EN
CALSCALE:GREGORIAN
METHOD:PUBLISH
X-WR-CALNAME:News @ HolmesCC
X-ORIGINAL-URL:https://news.holmescc.edu
X-WR-CALDESC:Events for News @ HolmesCC
BEGIN:VTIMEZONE
TZID:America/Chicago
BEGIN:DAYLIGHT
TZOFFSETFROM:-0600
TZOFFSETTO:-0500
TZNAME:CDT
DTSTART:20180311T080000
END:DAYLIGHT
BEGIN:STANDARD
TZOFFSETFROM:-0500
TZOFFSETTO:-0600
TZNAME:CST
DTSTART:20181104T070000
END:STANDARD
END:VTIMEZONE
BEGIN:VEVENT
DTSTART;VALUE=DATE:20180914
DTEND;VALUE=DATE:20180915
DTSTAMP:20260425T221104
CREATED:20201029T162616Z
LAST-MODIFIED:20201029T162616Z
UID:5522-1536883200-1536969599@news.holmescc.edu
SUMMARY:Last Day to Register (Online)
DESCRIPTION:
URL:https://news.holmescc.edu/calendar/last-day-to-register-online/
END:VEVENT
END:VCALENDAR